BEGIN:VCALENDAR
VERSION:2.0
PRODID:-//Yesche U. Regel - ECPv6.15.17.1//NONSGML v1.0//EN
CALSCALE:GREGORIAN
METHOD:PUBLISH
X-WR-CALNAME:Yesche U. Regel
X-ORIGINAL-URL:https://paramita-online.de
X-WR-CALDESC:Veranstaltungen für Yesche U. Regel
REFRESH-INTERVAL;VALUE=DURATION:PT1H
X-Robots-Tag:noindex
X-PUBLISHED-TTL:PT1H
BEGIN:VTIMEZONE
TZID:Europe/Berlin
BEGIN:DAYLIGHT
TZOFFSETFROM:+0100
TZOFFSETTO:+0200
TZNAME:CEST
DTSTART:20260329T010000
END:DAYLIGHT
BEGIN:STANDARD
TZOFFSETFROM:+0200
TZOFFSETTO:+0100
TZNAME:CET
DTSTART:20261025T010000
END:STANDARD
BEGIN:DAYLIGHT
TZOFFSETFROM:+0100
TZOFFSETTO:+0200
TZNAME:CEST
DTSTART:20270328T010000
END:DAYLIGHT
BEGIN:STANDARD
TZOFFSETFROM:+0200
TZOFFSETTO:+0100
TZNAME:CET
DTSTART:20271031T010000
END:STANDARD
BEGIN:DAYLIGHT
TZOFFSETFROM:+0100
TZOFFSETTO:+0200
TZNAME:CEST
DTSTART:20280326T010000
END:DAYLIGHT
BEGIN:STANDARD
TZOFFSETFROM:+0200
TZOFFSETTO:+0100
TZNAME:CET
DTSTART:20281029T010000
END:STANDARD
END:VTIMEZONE
BEGIN:VEVENT
DTSTART;VALUE=DATE:20270507
DTEND;VALUE=DATE:20270510
DTSTAMP:20260425T211929
CREATED:20250922T194537Z
LAST-MODIFIED:20250922T194537Z
UID:10002188-1809648000-1809907199@paramita-online.de
SUMMARY:Berlin: Fortbildung für MBSR-Lehrende (ZEB - Gerd Metz) - Die Wurzeln der Achtsamkeit im Buddhismus - Yesche U. Regel
DESCRIPTION:Die Fortbildung ist eine geschlossene Veranstaltung für jene\, die sich in dem Ausbildungsgang befinden.
URL:https://paramita-online.de/termin/hamburg-fortbildung-fuer-mbsr-lehrende-zeb-gerd-metz-die-wurzeln-der-achtsamkeit-im-buddhismus-yesche-u-regel-2/
CATEGORIES:Kurse & Retreats,Stadt und Land
ATTACH;FMTTYPE=image/jpeg:https://paramita-online.de/wp-content/uploads/Brain-Gerd-Metz-e1758569359759.jpg
END:VEVENT
END:VCALENDAR