BEGIN:VCALENDAR
VERSION:2.0
PRODID:-//Yesche U. Regel - ECPv6.15.17.1//NONSGML v1.0//EN
CALSCALE:GREGORIAN
METHOD:PUBLISH
X-WR-CALNAME:Yesche U. Regel
X-ORIGINAL-URL:https://paramita-online.de
X-WR-CALDESC:Veranstaltungen für Yesche U. Regel
REFRESH-INTERVAL;VALUE=DURATION:PT1H
X-Robots-Tag:noindex
X-PUBLISHED-TTL:PT1H
BEGIN:VTIMEZONE
TZID:Europe/Berlin
BEGIN:DAYLIGHT
TZOFFSETFROM:+0100
TZOFFSETTO:+0200
TZNAME:CEST
DTSTART:20250330T010000
END:DAYLIGHT
BEGIN:STANDARD
TZOFFSETFROM:+0200
TZOFFSETTO:+0100
TZNAME:CET
DTSTART:20251026T010000
END:STANDARD
BEGIN:DAYLIGHT
TZOFFSETFROM:+0100
TZOFFSETTO:+0200
TZNAME:CEST
DTSTART:20260329T010000
END:DAYLIGHT
BEGIN:STANDARD
TZOFFSETFROM:+0200
TZOFFSETTO:+0100
TZNAME:CET
DTSTART:20261025T010000
END:STANDARD
BEGIN:DAYLIGHT
TZOFFSETFROM:+0100
TZOFFSETTO:+0200
TZNAME:CEST
DTSTART:20270328T010000
END:DAYLIGHT
BEGIN:STANDARD
TZOFFSETFROM:+0200
TZOFFSETTO:+0100
TZNAME:CET
DTSTART:20271031T010000
END:STANDARD
END:VTIMEZONE
BEGIN:VEVENT
DTSTART;VALUE=DATE:20260828
DTEND;VALUE=DATE:20260831
DTSTAMP:20260423T213003
CREATED:20260320T214156Z
LAST-MODIFIED:20260328T132527Z
UID:10002439-1787875200-1788134399@paramita-online.de
SUMMARY:PARAMITA ONLINE - Jahres-Training 2026-2027 - Modul 1 - Praxiswochenende Metta-Herzenswärme - Yesche
DESCRIPTION:Jahresgruppen werden von Yesche seit vielen Jahren angeboten\, seit 2021 auch online. \nDas PARAMITA-ONLINE-Jahres-Training 2026-2027 wird in 5 Meditations-Praxis-Wochenenden (Module) zu den 5 Grundformen der Meditation bestehen\, die im PARAMITA ONLINE-Programm in jedem Monat in einem wöchentlichen Rhythmus angeleitet werden. Man kann sie in Ergänzung zu den regelmäßigen Meditationssitzungen als ganzes Programm belegen als auch an einzelnen Online-Wochenend-Modulen teilnehmen. \nDas Angebot richtet sich also vor allem an jene\, die regelmäßig oder gelegentlich an dem regelmäßigen PARAMITA-ONLINE-Wochen- und Monatsprogramm teilnehmen. Es ist jedoch auch offen für jene\, die einfach mal ein Online-Meditationswochenende praktizieren möchten. \nWichtig wäre\, dass man sich wirklich für ein ganzes Wochenende dafür Zeit nimmt\, einen ruhigen Ort schafft oder aufsucht und sich für 2 Tage auf die Praxis einlässt. \nDer Tagesablauf wird (wahrscheinlich) folgende Zeiten umfassen:\nFreitag jeweils 19.00-21.00 Uhr\nSamstag jeweils 7.30-8.15 Uhr – 10.00-13.00 Uhr – 15.00-18.00 Uhr\nSonntag jeweils 9:00-13.00 Uhr \nBei dem weiter unten erwähnten 5-Tage-Retreat im Juli 2027 wird der Zeitplan entsprechend vorher bekannt gegeben. \nDer Meditationsanteil soll etwa 70 % betragen. Es wird dazu Erklärungen und kleine Vorträge zu den Praxis-Themen und ihrem Dharma-Hintergrund geben. \nDiesmal wird das gesamte PARAMITA ONLINE-Programm mit den Praxis-Wochenenden verbunden. Das bedeutet\, dass in den Wochen und Monaten zwischen diesen Modulen vor allem\, wenn nicht nur\, die jeweilige Meditationsform angeleitet und geübt wird\, die am letzten Wochenenden vorgestellt und eingeübt wurde. \nDas bedeutet zum Beispiel\, dass in den Wochen ab dem 31.8.2026 (siehe die Wochenend-Termine weiter unten) bis zum 26.11.2026 vor allem Metta-Meditation geübt wird\, und zwar in den Morgen-Meditationen (z.B. montags und mittwochs) und Donnerstag in der Meditationsstunde um 18.00 Uhr. \nAn den Samstag Morgen wird weiterhin 5-Schritte zur Metta- und Tonglen-Praxis angeleitet und geübt. \nDie vorläufigen Termine sind: \n28.-30.8.2026 – Modul 1: Metta-Herzenswärme entwickeln und vertiefen\n(regelmäßige Metta-Meditation vom 31.8. – 26.11.2026) \n27.-29.11.2026 – Modul 2: Shamatha-Geistesruhe\n(regelmäßige Shamatha-Meditation vom 30.11.2026 – 25.2.2027)) \n26.-28.2.2027 – Modul 3: Vipashyana-Einsichts/Weisheit\n(regelmäßige Vipashyana-Praxis vom 1.3. – 15.4.2027) \n16.-18.4.2027 – Modul 4: Satipatthana-Achtsamkeit\n(regelmäßige Satipatthana-Praxis vom 19.4. – zum Tonglen-Abschluss-Retreat) \n7.-11.7.2027 – Modul 5: Fünf-Schritte-Tonglen – Tonglen-Retreat\nhybrid im Kamalashila Institut und online (der Termin wird demnächst bekannt gegeben). \nDiese Termine stehen nun fest in der Planung des Kursleiters. \nIn den Vergangenheit mussten einige Termine in Jahresgruppen schon mal verlegt werden. Es wird versucht dies zu vermeiden\, aber falls es doch sein muss\, wird dies rechtzeitig bekannt gegeben. Im Älterwerden und aus verschiedenen Gründen kann sich immer wieder mal etwas ändern. Auch musste der Kursleiter häufig erleben\, dass Teilnehmende kurzfristig absagen oder sogar – erklärt oder einfach so – aus einer Jahresgruppe ausscheiden. Das wäre also bei diesem Modell der Wochenend-Praxiskurse kein Thema. \nDeshalb soll es diesmal auch bei Absichtserklärungen bleiben\, wenn man alle 5 Module oder auch die meisten davon belegen möchte.\nAnsonsten kann man sich auch kurzfristiger zur Teilnahme an einem kommenden Praxis-Wochenende entscheiden. \nEs gibt deshalb auch keine Jahresgebühr für das gesamte Programm\, somit auch keine Verbindung mit dem PARAMITA ABO als Ratenzahlung wie zuvor/bisher.\nStattdessen wird für jedes Wochenende um die Überweisung einer Kursgebühr gebeten. \nDiese kann bestehen aus einem selbst bestimmten Dana (Geschenk an den Kursleiter)\,\noder aus einer Kursgebühr nach Wahl in Höhe von 50\,- €\, 100\,- € oder 150\,- € pro Wochenende\,\nje nach Wertschätzung und eigenen finanziellen Möglichkeiten. \nFür ein 5-Tage-Retreat zur Tonglen-Praxis im Juli 2027 in Kamalashila Institut vor Ort sind die vom Institut angegebenen Kursgebühren und Sätze für Unterkunft und Verpfelgung zu begleichen. Online kann man daran sowohl für 5 Tage als auch nur am Wochenende teilnehmen und dann dafür entsprechende Beiträge (wie nach dem oben genannten Schlüssel) an den Kursleiter überweisen. \nManche sind recht niedrige Kursgebühren gewohnt\, andere können sich höhere leisten.\nEinige geben lieber Dana. \nEgal ob Dana oder Kursgebühr\, der Kursleiter muss alle Einnahmen mit Umsatz- und Einkommenssteuer versteuern. \nDie Vergütung der Teilnahme an einem Wochenend-Kurs ist also unabhämgig von den Beiträgen für das PARAMITA-Monats-Abo\, 10er-Karten und Beiträge für einzelene Sitzungen während der Wochen/Monate. \nVor ca. zwei Jahren haben viele Teilnehmer’innen Meditationsanleitungen von Yesche abgeschrieben\, der damals angekündigt hatte ein „PARAMITA-Praxisbuch“ zusammenzustellen. Dieses ist bisher nicht zusatnde gekommen. \nNun kann ein solches Praxisbuch in den Wochen und Monaten dieses Jahressprogramms entstehen\,\nz.B. von September bis November mit Anleitungen zur Metta-Meditation und dann jeweils so weiter in den Wochen und Monaten zwischen den Modulen.\nDie bisherigen Abschriften und evtl. weitere werden dann zur Unterstützung der Praxis veröffentlicht und können die jeweilige individuelle Praxis begleiten\, da man diese dann auch ablesen und in Ruhe damit üben könnte. \nInteresse und Meinungen zu diesem Programm-Entwurf also willkommen\, Vornanmeldungen ebenso.\nMöglichst verbindliche Anmeldungen für ein Praxis-Wochenende sind bis ca. 1 Woche vor einem Termin möglich.
URL:https://paramita-online.de/termin/paramita-online-jahresprogramm-2026-2027-modul-1-praxiswochenende-metta-herzenswaerme-yesche/
CATEGORIES:Jahresgruppe Geistesklarheit, Achtsamkeit, Einsicht,Jahresgruppen,Kurse- und Übungstage (online),Paramita Online
ATTACH;FMTTYPE=image/png:https://paramita-online.de/wp-content/uploads/kalender-meditationsstunde-200.png
END:VEVENT
END:VCALENDAR