BEGIN:VCALENDAR
VERSION:2.0
PRODID:-//Yesche U. Regel - ECPv6.15.17.1//NONSGML v1.0//EN
CALSCALE:GREGORIAN
METHOD:PUBLISH
X-ORIGINAL-URL:https://paramita-online.de
X-WR-CALDESC:Veranstaltungen für Yesche U. Regel
REFRESH-INTERVAL;VALUE=DURATION:PT1H
X-Robots-Tag:noindex
X-PUBLISHED-TTL:PT1H
BEGIN:VTIMEZONE
TZID:Europe/Berlin
BEGIN:DAYLIGHT
TZOFFSETFROM:+0100
TZOFFSETTO:+0200
TZNAME:CEST
DTSTART:20250330T010000
END:DAYLIGHT
BEGIN:STANDARD
TZOFFSETFROM:+0200
TZOFFSETTO:+0100
TZNAME:CET
DTSTART:20251026T010000
END:STANDARD
BEGIN:DAYLIGHT
TZOFFSETFROM:+0100
TZOFFSETTO:+0200
TZNAME:CEST
DTSTART:20260329T010000
END:DAYLIGHT
BEGIN:STANDARD
TZOFFSETFROM:+0200
TZOFFSETTO:+0100
TZNAME:CET
DTSTART:20261025T010000
END:STANDARD
BEGIN:DAYLIGHT
TZOFFSETFROM:+0100
TZOFFSETTO:+0200
TZNAME:CEST
DTSTART:20270328T010000
END:DAYLIGHT
BEGIN:STANDARD
TZOFFSETFROM:+0200
TZOFFSETTO:+0100
TZNAME:CET
DTSTART:20271031T010000
END:STANDARD
END:VTIMEZONE
BEGIN:VEVENT
DTSTART;TZID=Europe/Berlin:20260420T073000
DTEND;TZID=Europe/Berlin:20260420T081500
DTSTAMP:20260423T154624
CREATED:20260319T162652Z
LAST-MODIFIED:20260319T162818Z
UID:10002398-1776670200-1776672900@paramita-online.de
SUMMARY:Morgen-Meditation - Shamatha-Geistesruhe zum Wochenbeginn - mit Yesche
DESCRIPTION:
URL:https://paramita-online.de/termin/morgen-meditation-shamatha-geistesruhe-zum-wochenbeginn-mit-yesche-2/
CATEGORIES:Morgen-Meditation (online),Paramita Online
ATTACH;FMTTYPE=image/png:https://paramita-online.de/wp-content/uploads/Yesche-im-Chonor-House-Yarlung-Turm-e1773937188911.png
END:VEVENT
BEGIN:VEVENT
DTSTART;TZID=Europe/Berlin:20260421T073000
DTEND;TZID=Europe/Berlin:20260421T081500
DTSTAMP:20260423T154624
CREATED:20250312T144952Z
LAST-MODIFIED:20260319T163323Z
UID:10002406-1776756600-1776759300@paramita-online.de
SUMMARY:an Dienstag Morgen: Achtsamkeit und Herzens-Verbundenheit mit Tara - mit Marion Ramb-Uderstadt
DESCRIPTION:Zu einem festen Termin und in Gemeinschaft zu meditieren kann die eigene Praxis\nunterstützen\, wie es das PARAMITA ONLINE-Programm ja seit über 4 Jahren auch\nfortlaufend anbietet. \nIch selbst fühle die Verbindung und den Schutz der Tara und nehme meine Zuflucht\nzu ihr. Ich möchte diese Verbindung stärken und erforschen und dies mit\nInteressierten teilen. \nDie äußere Struktur wird wie bei vielen anderen Meditationen bei PARAMITA\nONLINE sein: \nIn der ersten Hälfte der 45-minütigen Meditation finden wir mit Achtsamkeit eine\nGrundruhe und bemerken\, was gerade in uns geschieht. \nIm zweiten Teil üben wir dann in Verbindung zu kommen mit unserer Buddha-Natur\nund begegnen Tara als Ausdruck dieser wahren Natur unseres Wesens. So können\nwir in Berührung kommen mit einer Kraftquelle\, die Tara für uns sein kann. \nDabei können wir das Mantra der Tara rezitieren\, singen oder es auch einfach hören\,\nindem wir einer eingespielten Tara-Mantra-Aufnahme lauschen und in Stille mit Tara\nals Visualisierung sitzen. \nDies ist ein Angebot\, um die Verbindung zu Tara zu verstärken und dabei\nmiteinander zu wachsen. \nAls Anleiterin dieser Morgen-Meditation bin ich keine Expertin in der Tara-Praxis\,\nmöchte jedoch gerne in Gemeinschaft die Verbindung zu Tara pflegen.\nIch freue mich über jede und jeden\, die/der Lust hat die Verbindung zu Tara\nregelmässig in einer Gemeinschaft zu kultivieren. \nMan kann sowohl an einzelnen Dienstag-Morgen-Meditationen teilnehmen als auch\nalle 4 Termine in Serie wahrnehmen. \nMarion R.-U. \nDie Termine sind jeweils an einem Dienstag Morgen von 7.30-8.15 Uhr.\nSiehe den Kalender. \n  \n 
URL:https://paramita-online.de/termin/an-dienstag-morgen-achtsamkeit-und-herzens-verbundenheit-mit-tara-mit-marion-ramb-uderstadt/2026-04-21/
CATEGORIES:Morgen-Meditation (online),Paramita Online,Tibetische Pujas (online)
ATTACH;FMTTYPE=image/png:https://paramita-online.de/wp-content/uploads/kalender-Gruene-Tara-200.png
END:VEVENT
BEGIN:VEVENT
DTSTART;TZID=Europe/Berlin:20260421T160000
DTEND;TZID=Europe/Berlin:20260421T173000
DTSTAMP:20260423T154624
CREATED:20260111T200408Z
LAST-MODIFIED:20260326T120751Z
UID:10002357-1776787200-1776792600@paramita-online.de
SUMMARY:Bonn - Botanischer Garten - Geh-Meditation - mit Yesche
DESCRIPTION:Auch wenn es Paramita Bonn im Jahr 2026 nicht mehr in der Clemens-August-Straße in Poppelsdorf gibt\,\neine Geh-Meditation kann an diesen Nachmittagen wie früher im Botanischen Garten stattfinden. \nTreffpunkt 16.30 Uhr am Eingang Meckenheimer Allee vor den Seerosenteichen. \nWeitere Termine sind immer dann\, wenn Yesche auch im Plum Garden zu Gast ist\,\nals nächstes dann z.B. am 3. Juni 2026
URL:https://paramita-online.de/termin/bonn-botanischer-garten-geh-meditation-mit-yesche-2/
CATEGORIES:Geh-Meditation Botanischer Garten Bonn,Kurse und Übungstage,PARAMITA Bonn
ATTACH;FMTTYPE=image/jpeg:https://paramita-online.de/wp-content/uploads/2020-05-24-Gehmeditation-Botanischer-Garten2-e1741898815987.jpg
END:VEVENT
BEGIN:VEVENT
DTSTART;TZID=Europe/Berlin:20260421T190000
DTEND;TZID=Europe/Berlin:20260421T210000
DTSTAMP:20260423T154624
CREATED:20260111T194053Z
LAST-MODIFIED:20260326T120921Z
UID:10002355-1776798000-1776805200@paramita-online.de
SUMMARY:Bonn - Yesche zu Gast bei Freundinnen und Freunden des Paramita Bonn im Plum Garden
DESCRIPTION:Freunde des ehemaligen Paramita Bonn wollen sich weiterhin gelegentlich zur Meditation treffen und Yesche ab und zu einladen dabei zu sein und ein paar Anleitungen zu geben\, über Buddhadharma zu sprechen und evtl. ein paar Fragen zu beantworten. \nHier werden nur Termine angegeben\, zu denen Yesche anwesend sein wird. \nsiehe: http://www.plum-garden.de \n 
URL:https://paramita-online.de/termin/bonn-yesche-zu-gast-bei-freundinnen-und-freunden-des-paramita-bonn-im-plum-garden/2026-04-21/
CATEGORIES:Gastvortraege,Kurse und Übungstage,PARAMITA Bonn,Sangha Abende
ATTACH;FMTTYPE=image/jpeg:https://paramita-online.de/wp-content/uploads/archiv-audio-hintergrund-e1768160394202.jpg
END:VEVENT
BEGIN:VEVENT
DTSTART;VALUE=DATE:20260422
DTEND;VALUE=DATE:20260427
DTSTAMP:20260423T154624
CREATED:20250922T193711Z
LAST-MODIFIED:20260326T000046Z
UID:10002189-1776816000-1777247999@paramita-online.de
SUMMARY:Roseburg - Haus der Stille - Meditationstage "Sei du der Frieden\, den die Welt so dringend benötigt" - mit Yesche
DESCRIPTION:direkt zur Anmeldung im Haus der Stille:\nhttps://www.hausderstille.org/seminar-07-2026.html \nWer dem Weg des Buddha zu folgen versucht\, gelobt zumeist den eigenen Geist und die eigene Lebensführung ganz auf Friedfertigkeit auszurichten. Keinem Wesen soll mehr Schaden zugefügt werden\, unparteiliches Mitgefühl gilt es zu entfalten. Man selbst möchte die Fesseln des Leidenskreislaufes (Samsara) durchschneiden\, sich befreien und auch andere dazu inspirieren. Damit dies nicht nur ein abstraktes Ideal bleibt\, gilt es\, den eigenen Geist mit entsprechenden Meditationsmethoden zu schulen. Auf der Grundlage einer entsprechenden Motivations- und Entschlusskraft können Meditationen zur Entwicklung von Achtsamkeit\, Geistesruhe und mentaler Stabilität (Shamatha)\, sowie Metta-Herzensgüte und Mitgefühlsmeditationen (Tonglen) eingeübt werden.\nWie kann es also gelingen innere Stabilität zu bewahren und Frieden in sich tiefer zu verankern\, zumal in einem Umfeld\, das nicht den Geist der Friedfertigkeit atmet\, sondern in dem es viel Unruhe und Stress gibt und sogar Kriege geführt werden?\nIn kurzen Dharma-Vorträgen wird das Thema aufgezeigt und zu einem achtsamen Austausch über die Übung der Friedfertigkeit im Angesicht des Zeitgeistes und Zeitgeschehens eingeladen.
URL:https://paramita-online.de/termin/roseburg-haus-der-stille-meditationstage-sei-du-der-frieden-den-die-welt-so-dringend-benoetigt-mit-yesche/
CATEGORIES:Kurse & Retreats,Stadt und Land
ATTACH;FMTTYPE=image/png:https://paramita-online.de/wp-content/uploads/Haus-der-Stille-gespiegelt-im-See-1-e1739223594233.png
END:VEVENT
BEGIN:VEVENT
DTSTART;TZID=Europe/Berlin:20260423T180000
DTEND;TZID=Europe/Berlin:20260423T190000
DTSTAMP:20260423T154624
CREATED:20260322T212212Z
LAST-MODIFIED:20260322T212231Z
UID:10002414-1776967200-1776970800@paramita-online.de
SUMMARY:Meditationsstunden - mit Themen im Monats-Rhythmus - mit Yesche
DESCRIPTION:
URL:https://paramita-online.de/termin/meditationsstunden-mit-themen-im-monats-rhythmus-mit-yesche-2/
CATEGORIES:Donnerstag-Mediationsstunde (online),Paramita Online
ATTACH;FMTTYPE=image/png:https://paramita-online.de/wp-content/uploads/Yesche-im-Chonor-House-Yarlung-Turm-e1773937188911.png
END:VEVENT
BEGIN:VEVENT
DTSTART;TZID=Europe/Berlin:20260425T070000
DTEND;TZID=Europe/Berlin:20260425T075500
DTSTAMP:20260423T154624
CREATED:20260319T125033Z
LAST-MODIFIED:20260319T125034Z
UID:10002390-1777100400-1777103700@paramita-online.de
SUMMARY:Mit Achtsamkeit\, Metta und Tonglen in das Wochenende - mit Yesche
DESCRIPTION:Achtung: Diese Sitzung beginnt bereits um 7.00 Uhr und dauert ca. 55 Minuten.\nSie wird aus einer Gruppe im Meditationssaal des „Haus der Stille“ in Roseburg (bei Büchen/Hamburg) übertragen. \nAn den Samstag Morgen wird zumeist eine 5-Schritte-Meditation zur Tonglen-Praxis angeleitet\, wie Yesche sie in zwei Büchern beschrieben hat. \nDie 5 Schritte umfassen\n1. Eine geeignete Motivation für die Meditation entwickeln.\n2. Achtsamkeit für den Körper\, die Körperhaltung und die Atmung entwickeln und eine wache Präsenz des Geistes wecken.\n3. Eine Motivation des Wohlwollens und der Herzenswärme (Metta-Meditation) in sich wachrufen und eine innere Herzenskraftquelle für die Praxis finden.\n4. Die Tonglen-Herzatmung des Annehmens und Aussendens für ein Thema ausführen\, dem wir unsere Meditationssitzung widmen möchten. Dies kann etwas in uns selbst sein (Selbstmitgefühl) oder etwas\, das andere betrifft\, einzelne\, mehrere oder viele.\n5. Alle Vorstellungen auflösen und die Meditationssitzung mit einer Widmung abschließen. \nDie genauen Themen\, z.B. Selbst-Mitgefühl durch Tonglen oder zur Kultivierung von Altruismus in Bezug auf andere\, wechseln von Samstag zu Samstag. Der Anleiter nennt besondere Themen jeweils erst spontan an einem Samstag Morgen.
URL:https://paramita-online.de/termin/mit-achtsamkeit-metta-und-tonglen-in-das-wochenende-mit-yesche-2-4/
CATEGORIES:Morgen-Meditation (online),Paramita Online,tonglen
ATTACH;FMTTYPE=image/jpeg:https://paramita-online.de/wp-content/uploads/jahresgruppe-tonglen.jpg
END:VEVENT
END:VCALENDAR