BEGIN:VCALENDAR
VERSION:2.0
PRODID:-//Yesche U. Regel - ECPv6.15.17.1//NONSGML v1.0//EN
CALSCALE:GREGORIAN
METHOD:PUBLISH
X-ORIGINAL-URL:https://paramita-online.de
X-WR-CALDESC:Veranstaltungen für Yesche U. Regel
REFRESH-INTERVAL;VALUE=DURATION:PT1H
X-Robots-Tag:noindex
X-PUBLISHED-TTL:PT1H
BEGIN:VTIMEZONE
TZID:Europe/Berlin
BEGIN:DAYLIGHT
TZOFFSETFROM:+0100
TZOFFSETTO:+0200
TZNAME:CEST
DTSTART:20250330T010000
END:DAYLIGHT
BEGIN:STANDARD
TZOFFSETFROM:+0200
TZOFFSETTO:+0100
TZNAME:CET
DTSTART:20251026T010000
END:STANDARD
BEGIN:DAYLIGHT
TZOFFSETFROM:+0100
TZOFFSETTO:+0200
TZNAME:CEST
DTSTART:20260329T010000
END:DAYLIGHT
BEGIN:STANDARD
TZOFFSETFROM:+0200
TZOFFSETTO:+0100
TZNAME:CET
DTSTART:20261025T010000
END:STANDARD
BEGIN:DAYLIGHT
TZOFFSETFROM:+0100
TZOFFSETTO:+0200
TZNAME:CEST
DTSTART:20270328T010000
END:DAYLIGHT
BEGIN:STANDARD
TZOFFSETFROM:+0200
TZOFFSETTO:+0100
TZNAME:CET
DTSTART:20271031T010000
END:STANDARD
END:VTIMEZONE
BEGIN:VEVENT
DTSTART;TZID=Europe/Berlin:20260406T080000
DTEND;TZID=Europe/Berlin:20260406T084500
DTSTAMP:20260423T134112
CREATED:20260319T161129Z
LAST-MODIFIED:20260319T161827Z
UID:10002367-1775462400-1775465100@paramita-online.de
SUMMARY:Morgen-Meditation - Metta-Herzenswärme-Praxis zum Ostermontag und Wochenbeginn - mit Yesche
DESCRIPTION:Tatsächlich: Auch am Ostermontag kann eine Morgen-Meditation stattfinden.\nSie wird aus Porto in Portugal übertragen und beginnt (deshalb) erst um 8.00 Uhr\, bitte beachte dies.
URL:https://paramita-online.de/termin/morgen-meditation-mit-achtsamkeit-und-metta-die-natuerliche-welt-betrachen-mit-yesche-2/
CATEGORIES:Morgen-Meditation (online),Paramita Online
ATTACH;FMTTYPE=image/jpeg:https://paramita-online.de/wp-content/uploads/IMG_4420-2-e1628543325770.jpeg
END:VEVENT
BEGIN:VEVENT
DTSTART;TZID=Europe/Berlin:20260407T073000
DTEND;TZID=Europe/Berlin:20260407T081500
DTSTAMP:20260423T134112
CREATED:20250312T144952Z
LAST-MODIFIED:20260319T163323Z
UID:10002404-1775547000-1775549700@paramita-online.de
SUMMARY:an Dienstag Morgen: Achtsamkeit und Herzens-Verbundenheit mit Tara - mit Marion Ramb-Uderstadt
DESCRIPTION:Zu einem festen Termin und in Gemeinschaft zu meditieren kann die eigene Praxis\nunterstützen\, wie es das PARAMITA ONLINE-Programm ja seit über 4 Jahren auch\nfortlaufend anbietet. \nIch selbst fühle die Verbindung und den Schutz der Tara und nehme meine Zuflucht\nzu ihr. Ich möchte diese Verbindung stärken und erforschen und dies mit\nInteressierten teilen. \nDie äußere Struktur wird wie bei vielen anderen Meditationen bei PARAMITA\nONLINE sein: \nIn der ersten Hälfte der 45-minütigen Meditation finden wir mit Achtsamkeit eine\nGrundruhe und bemerken\, was gerade in uns geschieht. \nIm zweiten Teil üben wir dann in Verbindung zu kommen mit unserer Buddha-Natur\nund begegnen Tara als Ausdruck dieser wahren Natur unseres Wesens. So können\nwir in Berührung kommen mit einer Kraftquelle\, die Tara für uns sein kann. \nDabei können wir das Mantra der Tara rezitieren\, singen oder es auch einfach hören\,\nindem wir einer eingespielten Tara-Mantra-Aufnahme lauschen und in Stille mit Tara\nals Visualisierung sitzen. \nDies ist ein Angebot\, um die Verbindung zu Tara zu verstärken und dabei\nmiteinander zu wachsen. \nAls Anleiterin dieser Morgen-Meditation bin ich keine Expertin in der Tara-Praxis\,\nmöchte jedoch gerne in Gemeinschaft die Verbindung zu Tara pflegen.\nIch freue mich über jede und jeden\, die/der Lust hat die Verbindung zu Tara\nregelmässig in einer Gemeinschaft zu kultivieren. \nMan kann sowohl an einzelnen Dienstag-Morgen-Meditationen teilnehmen als auch\nalle 4 Termine in Serie wahrnehmen. \nMarion R.-U. \nDie Termine sind jeweils an einem Dienstag Morgen von 7.30-8.15 Uhr.\nSiehe den Kalender. \n  \n 
URL:https://paramita-online.de/termin/an-dienstag-morgen-achtsamkeit-und-herzens-verbundenheit-mit-tara-mit-marion-ramb-uderstadt/2026-04-07/
CATEGORIES:Morgen-Meditation (online),Paramita Online,Tibetische Pujas (online)
ATTACH;FMTTYPE=image/png:https://paramita-online.de/wp-content/uploads/kalender-Gruene-Tara-200.png
END:VEVENT
BEGIN:VEVENT
DTSTART;VALUE=DATE:20260408
DTEND;VALUE=DATE:20260412
DTSTAMP:20260423T134112
CREATED:20250922T194426Z
LAST-MODIFIED:20260319T123155Z
UID:10002190-1775606400-1775951999@paramita-online.de
SUMMARY:Porto (Portugal) - Workshop auf dem Symposium "Behind and Beyond the Brain" der BIAL Foundation
DESCRIPTION:Im Rahmen des 15. Symposiums „Behind and Beyond the Brain“ zum diesjährigen Thema „End of Life Experiences“ darf ich einen Workshop über die Bardo-Lehren des Buddhismus anleiten.\nDabei wird es auch um die Frage gehen\, ob und wie ein Bewusstseinsstrom ohne ein funktionierendes Gehirn fortexistieren kann. \nDer Workshop wird wie das gesamte Sympisium auf Englisch gehalten. \nSiehe: https://www.fundacaobial.com/en-GB/symposia
URL:https://paramita-online.de/termin/porto-portugal-workshop-auf-dem-symposium-inside-and-beyond-the-brain-der-bial-foundation/
CATEGORIES:Kurse & Retreats,Stadt und Land,Vorträge und Lesungen
ATTACH;FMTTYPE=image/png:https://paramita-online.de/wp-content/uploads/BIAL-Symposium-Butterfly-and-hands-e1758570253371.png
END:VEVENT
BEGIN:VEVENT
DTSTART;TZID=Europe/Berlin:20260409T180000
DTEND;TZID=Europe/Berlin:20260409T190000
DTSTAMP:20260423T134112
CREATED:20260319T122735Z
LAST-MODIFIED:20260319T164016Z
UID:10002387-1775757600-1775761200@paramita-online.de
SUMMARY:Online-Meditationsstunde - angeleitet von Marion Ramb-Uderstadt
DESCRIPTION:PARAMITA ONLINE Teilnehmende beachten bitte den im Rundbrief angegebenen ZOOM-Link von Marion.
URL:https://paramita-online.de/termin/online-meditationsstunde-angeleitet-von-marion-ramb-uderstadt/2026-04-09/
CATEGORIES:Donnerstag-Mediationsstunde (online),Paramita Online
ATTACH;FMTTYPE=image/jpeg:https://paramita-online.de/wp-content/uploads/Marion-Ramb-Uderstadt-e1753718451955.jpg
END:VEVENT
BEGIN:VEVENT
DTSTART;TZID=Europe/Berlin:20260411T080000
DTEND;TZID=Europe/Berlin:20260411T084500
DTSTAMP:20260423T134112
CREATED:20260319T124727Z
LAST-MODIFIED:20260319T124727Z
UID:10002388-1775894400-1775897100@paramita-online.de
SUMMARY:Mit Achtsamkeit\, Metta und Tonglen in das Wochenende - mit Sylke Känner
DESCRIPTION:Diese Morgen-Meditation wird von Sylke Känner angeleitet.\nPARAMITA ONLINE Teilnehmende beachten bitte ihren ZOOM-Link in den Rundbriefen. \nsiehe auch: www.sylke-kaenner.de \nAn den Samstag Morgen wird zumeist eine 5-Schritte-Meditation zur Tonglen-Praxis angeleitet\, wie Yesche sie in zwei Büchern beschrieben hat. \nDie 5 Schritte umfassen\n1. Eine geeignete Motivation für die Meditation entwickeln.\n2. Achtsamkeit für den Körper\, die Körperhaltung und die Atmung entwickeln und eine wache Präsenz des Geistes wecken.\n3. Eine Motivation des Wohlwollens und der Herzenswärme (Metta-Meditation) in sich wachrufen und eine innere Herzenskraftquelle für die Praxis finden.\n4. Die Tonglen-Herzatmung des Annehmens und Aussendens für ein Thema ausführen\, dem wir unsere Meditationssitzung widmen möchten. Dies kann etwas in uns selbst sein (Selbstmitgefühl) oder etwas\, das andere betrifft\, einzelne\, mehrere oder viele.\n5. Alle Vorstellungen auflösen und die Meditationssitzung mit einer Widmung abschließen. \nDie genauen Themen\, z.B. Selbst-Mitgefühl durch Tonglen oder zur Kultivierung von Altruismus in Bezug auf andere\, wechseln von Samstag zu Samstag. Der Anleiter nennt besondere Themen jeweils erst spontan an einem Samstag Morgen.
URL:https://paramita-online.de/termin/mit-achtsamkeit-metta-und-tonglen-in-das-wochenende-mit-yesche-2-2/
CATEGORIES:Morgen-Meditation (online),Paramita Online,tonglen
ATTACH;FMTTYPE=image/png:https://paramita-online.de/wp-content/uploads/Sylke-Kaenner-2026-e1773924432160.png
END:VEVENT
END:VCALENDAR