BEGIN:VCALENDAR
VERSION:2.0
PRODID:-//Yesche U. Regel - ECPv6.15.17.1//NONSGML v1.0//EN
CALSCALE:GREGORIAN
METHOD:PUBLISH
X-ORIGINAL-URL:https://paramita-online.de
X-WR-CALDESC:Veranstaltungen für Yesche U. Regel
REFRESH-INTERVAL;VALUE=DURATION:PT1H
X-Robots-Tag:noindex
X-PUBLISHED-TTL:PT1H
BEGIN:VTIMEZONE
TZID:Europe/Berlin
BEGIN:DAYLIGHT
TZOFFSETFROM:+0100
TZOFFSETTO:+0200
TZNAME:CEST
DTSTART:20250330T010000
END:DAYLIGHT
BEGIN:STANDARD
TZOFFSETFROM:+0200
TZOFFSETTO:+0100
TZNAME:CET
DTSTART:20251026T010000
END:STANDARD
BEGIN:DAYLIGHT
TZOFFSETFROM:+0100
TZOFFSETTO:+0200
TZNAME:CEST
DTSTART:20260329T010000
END:DAYLIGHT
BEGIN:STANDARD
TZOFFSETFROM:+0200
TZOFFSETTO:+0100
TZNAME:CET
DTSTART:20261025T010000
END:STANDARD
BEGIN:DAYLIGHT
TZOFFSETFROM:+0100
TZOFFSETTO:+0200
TZNAME:CEST
DTSTART:20270328T010000
END:DAYLIGHT
BEGIN:STANDARD
TZOFFSETFROM:+0200
TZOFFSETTO:+0100
TZNAME:CET
DTSTART:20271031T010000
END:STANDARD
END:VTIMEZONE
BEGIN:VEVENT
DTSTART;TZID=Europe/Berlin:20260330T073000
DTEND;TZID=Europe/Berlin:20260330T081500
DTSTAMP:20260423T122025
CREATED:20260319T181205Z
LAST-MODIFIED:20260319T181206Z
UID:10002366-1774855800-1774858500@paramita-online.de
SUMMARY:Morgen-Meditation - Mit Achtsamkeit und Metta in die Woche - mit Yesche
DESCRIPTION:
URL:https://paramita-online.de/termin/morgen-meditation-mit-achtsamkeit-und-metta-die-natuerliche-welt-betrachen-mit-yesche-3/
CATEGORIES:Morgen-Meditation (online),Paramita Online
ATTACH;FMTTYPE=image/jpeg:https://paramita-online.de/wp-content/uploads/IMG_4420-2-e1628543325770.jpeg
END:VEVENT
BEGIN:VEVENT
DTSTART;TZID=Europe/Berlin:20260330T200000
DTEND;TZID=Europe/Berlin:20260330T210000
DTSTAMP:20260423T122025
CREATED:20251017T071458Z
LAST-MODIFIED:20251017T071458Z
UID:10002227-1774900800-1774904400@paramita-online.de
SUMMARY:Friedens-Meditation online - mit Bernd Bender (Akazien-Dojo\, Berlin) - Eine Initiative der AG Frieden... (in der DBU)
DESCRIPTION:An jedem letzten Montag eines Monats empfiehlt die „AG Frieden – Buddhistisches Friedensforum“ in der Deutschen Buddhistischen Union eine Friedens-Meditation durchzuführen\, alleine oder in einer Gruppe/Gemeinschaft. \nZusätzlich wird eine Online-Sitzung angeboten\, so dass man angeleitet an einer Friedens-Meditation teilnehmen kann.\nDiese Sitzungen werden von verschiedenen Meditationslehrer’innen angeleitet\, die freundlicherweise die Einladung der AG Krieg und Frieden angenommen haben \nDie Termine und Anleiter’innen sind: \n27. Oktober 2025 – Ani Karma Tsültrim\n24. November 2025 – Yesche U. Regel\n29. Dezember 2025 – Lama Tilmann Lhündrub \n26. Januar 2026 – Dr. Wilfried Reuter\n23. Februar 2026 – Irmi Jeuther\n30. März 2026 – Bernd Bender\n27. April 2026 – evtl. Kathleen Hohetsu Battke
URL:https://paramita-online.de/termin/friedens-meditation-online-mit-bernd-bender-akazien-dojo-berlin-eine-initiative-der-ag-frieden-in-der-dbu/
CATEGORIES:AG Frieden,Friedens-Meditationen online,Paramita Online
ATTACH;FMTTYPE=image/png:https://paramita-online.de/wp-content/uploads/Logo-AG-Frieden-neu-9-2025-e1773961035571.png
END:VEVENT
BEGIN:VEVENT
DTSTART;TZID=Europe/Berlin:20260331T073000
DTEND;TZID=Europe/Berlin:20260331T081500
DTSTAMP:20260423T122025
CREATED:20250312T144952Z
LAST-MODIFIED:20260319T163323Z
UID:10002381-1774942200-1774944900@paramita-online.de
SUMMARY:an Dienstag Morgen: Achtsamkeit und Herzens-Verbundenheit mit Tara - mit Marion Ramb-Uderstadt
DESCRIPTION:Zu einem festen Termin und in Gemeinschaft zu meditieren kann die eigene Praxis\nunterstützen\, wie es das PARAMITA ONLINE-Programm ja seit über 4 Jahren auch\nfortlaufend anbietet. \nIch selbst fühle die Verbindung und den Schutz der Tara und nehme meine Zuflucht\nzu ihr. Ich möchte diese Verbindung stärken und erforschen und dies mit\nInteressierten teilen. \nDie äußere Struktur wird wie bei vielen anderen Meditationen bei PARAMITA\nONLINE sein: \nIn der ersten Hälfte der 45-minütigen Meditation finden wir mit Achtsamkeit eine\nGrundruhe und bemerken\, was gerade in uns geschieht. \nIm zweiten Teil üben wir dann in Verbindung zu kommen mit unserer Buddha-Natur\nund begegnen Tara als Ausdruck dieser wahren Natur unseres Wesens. So können\nwir in Berührung kommen mit einer Kraftquelle\, die Tara für uns sein kann. \nDabei können wir das Mantra der Tara rezitieren\, singen oder es auch einfach hören\,\nindem wir einer eingespielten Tara-Mantra-Aufnahme lauschen und in Stille mit Tara\nals Visualisierung sitzen. \nDies ist ein Angebot\, um die Verbindung zu Tara zu verstärken und dabei\nmiteinander zu wachsen. \nAls Anleiterin dieser Morgen-Meditation bin ich keine Expertin in der Tara-Praxis\,\nmöchte jedoch gerne in Gemeinschaft die Verbindung zu Tara pflegen.\nIch freue mich über jede und jeden\, die/der Lust hat die Verbindung zu Tara\nregelmässig in einer Gemeinschaft zu kultivieren. \nMan kann sowohl an einzelnen Dienstag-Morgen-Meditationen teilnehmen als auch\nalle 4 Termine in Serie wahrnehmen. \nMarion R.-U. \nDie Termine sind jeweils an einem Dienstag Morgen von 7.30-8.15 Uhr.\nSiehe den Kalender. \n  \n 
URL:https://paramita-online.de/termin/an-dienstag-morgen-achtsamkeit-und-herzens-verbundenheit-mit-tara-mit-marion-ramb-uderstadt/2026-03-31/
CATEGORIES:Morgen-Meditation (online),Paramita Online,Tibetische Pujas (online)
ATTACH;FMTTYPE=image/png:https://paramita-online.de/wp-content/uploads/kalender-Gruene-Tara-200.png
END:VEVENT
BEGIN:VEVENT
DTSTART;TZID=Europe/Berlin:20260402T180000
DTEND;TZID=Europe/Berlin:20260402T190000
DTSTAMP:20260423T122025
CREATED:20260319T122735Z
LAST-MODIFIED:20260319T164016Z
UID:10002386-1775152800-1775156400@paramita-online.de
SUMMARY:Online-Meditationsstunde - angeleitet von Marion Ramb-Uderstadt
DESCRIPTION:PARAMITA ONLINE Teilnehmende beachten bitte den im Rundbrief angegebenen ZOOM-Link von Marion.
URL:https://paramita-online.de/termin/online-meditationsstunde-angeleitet-von-marion-ramb-uderstadt/2026-04-02/
CATEGORIES:Donnerstag-Mediationsstunde (online),Paramita Online
ATTACH;FMTTYPE=image/jpeg:https://paramita-online.de/wp-content/uploads/Marion-Ramb-Uderstadt-e1753718451955.jpg
END:VEVENT
BEGIN:VEVENT
DTSTART;TZID=Europe/Berlin:20260404T080000
DTEND;TZID=Europe/Berlin:20260404T084500
DTSTAMP:20260423T122025
CREATED:20260131T223229Z
LAST-MODIFIED:20260319T124254Z
UID:10002376-1775289600-1775292300@paramita-online.de
SUMMARY:Mit Achtsamkeit\, Metta und Tonglen in das Wochenende - mit Yesche
DESCRIPTION:An den Samstag Morgen wird zumeist eine 5-Schritte-Meditation zur Tonglen-Praxis angeleitet\, wie Yesche sie in zwei Büchern beschrieben hat. \nDie 5 Schritte umfassen\n1. Eine geeignete Motivation für die Meditation entwickeln.\n2. Achtsamkeit für den Körper\, die Körperhaltung und die Atmung entwickeln und eine wache Präsenz des Geistes wecken.\n3. Eine Motivation des Wohlwollens und der Herzenswärme (Metta-Meditation) in sich wachrufen und eine innere Herzenskraftquelle für die Praxis finden.\n4. Die Tonglen-Herzatmung des Annehmens und Aussendens für ein Thema ausführen\, dem wir unsere Meditationssitzung widmen möchten. Dies kann etwas in uns selbst sein (Selbstmitgefühl) oder etwas\, das andere betrifft\, einzelne\, mehrere oder viele.\n5. Alle Vorstellungen auflösen und die Meditationssitzung mit einer Widmung abschließen. \nDie genauen Themen\, z.B. Selbst-Mitgefühl durch Tonglen oder zur Kultivierung von Altruismus in Bezug auf andere\, wechseln von Samstag zu Samstag. Der Anleiter nennt besondere Themen jeweils erst spontan an einem Samstag Morgen.
URL:https://paramita-online.de/termin/mit-achtsamkeit-metta-und-tonglen-in-das-wochenende-mit-yesche-2/2026-04-04/
CATEGORIES:Morgen-Meditation (online),Paramita Online,tonglen
ATTACH;FMTTYPE=image/jpeg:https://paramita-online.de/wp-content/uploads/jahresgruppe-tonglen.jpg
END:VEVENT
END:VCALENDAR