BEGIN:VCALENDAR
VERSION:2.0
PRODID:-//Yesche U. Regel - ECPv6.15.17.1//NONSGML v1.0//EN
CALSCALE:GREGORIAN
METHOD:PUBLISH
X-WR-CALNAME:Yesche U. Regel
X-ORIGINAL-URL:https://paramita-online.de
X-WR-CALDESC:Veranstaltungen für Yesche U. Regel
REFRESH-INTERVAL;VALUE=DURATION:PT1H
X-Robots-Tag:noindex
X-PUBLISHED-TTL:PT1H
BEGIN:VTIMEZONE
TZID:Europe/Berlin
BEGIN:DAYLIGHT
TZOFFSETFROM:+0100
TZOFFSETTO:+0200
TZNAME:CEST
DTSTART:20250330T010000
END:DAYLIGHT
BEGIN:STANDARD
TZOFFSETFROM:+0200
TZOFFSETTO:+0100
TZNAME:CET
DTSTART:20251026T010000
END:STANDARD
BEGIN:DAYLIGHT
TZOFFSETFROM:+0100
TZOFFSETTO:+0200
TZNAME:CEST
DTSTART:20260329T010000
END:DAYLIGHT
BEGIN:STANDARD
TZOFFSETFROM:+0200
TZOFFSETTO:+0100
TZNAME:CET
DTSTART:20261025T010000
END:STANDARD
BEGIN:DAYLIGHT
TZOFFSETFROM:+0100
TZOFFSETTO:+0200
TZNAME:CEST
DTSTART:20270328T010000
END:DAYLIGHT
BEGIN:STANDARD
TZOFFSETFROM:+0200
TZOFFSETTO:+0100
TZNAME:CET
DTSTART:20271031T010000
END:STANDARD
END:VTIMEZONE
BEGIN:VEVENT
DTSTART;TZID=Europe/Berlin:20260126T073000
DTEND;TZID=Europe/Berlin:20260126T081500
DTSTAMP:20260422T170936
CREATED:20251226T181657Z
LAST-MODIFIED:20260131T222115Z
UID:10002300-1769412600-1769415300@paramita-online.de
SUMMARY:Online-Morgen-Meditation mit wechselnden Anleitungen im Monats-Rhythmus - mit Yesche
DESCRIPTION:Die Montag-Morgen-Meditationen sind sehr beliebt und werden von vielen gerne als meditativer Einstieg in die Woche wahrgenommen.\nDazu werden unterschiedliche Themen im Monats-Rhythmus des PARAMITA-ONLINE-Programms angeleitet. \nDieser Rhythmus geht so: \njeweils Montag und Mittwoch um 7.30 Uhr sowie am Donnerstag um 18.00 Uhr: \n1. Woche des Monats: Metta-Herzenswärme-Meditation – mit wechselnden Anleitungen\n2. Woche des Monats: Shamatha-/Schi-nä-Geistesruhe-Meditation – mit wechselnden Anleitungen\n3. Woche des Monats: Vipashyana-Einsichts-/Weisheits-Meditation – mit wechselnden Anleitungen\n4. Woche des Monats: Sati-Achtsamkeits-Meditation nach klassischen und zeitgenössischen Quellen \n… und wenn es eine 5. Woche des Monats gibt: Variationen der üblichen Anleitungen oder Spezial-Anleitungen
URL:https://paramita-online.de/termin/online-morgen-meditation-mit-wechselnden-themen-monats-rhythmus-mit-yesche/2026-01-26/
CATEGORIES:Morgen-Meditation (online),Paramita Online
ATTACH;FMTTYPE=image/jpeg:https://paramita-online.de/wp-content/uploads/online-morgenmeditation2.jpg
END:VEVENT
BEGIN:VEVENT
DTSTART;TZID=Europe/Berlin:20260126T200000
DTEND;TZID=Europe/Berlin:20260126T210000
DTSTAMP:20260422T170936
CREATED:20250916T102342Z
LAST-MODIFIED:20251017T071003Z
UID:10002178-1769457600-1769461200@paramita-online.de
SUMMARY:Friedens-Meditation online - Dr. Wilfried Reuter (Lotos Vihara\, Berlin) - eine Initiative der AG Frieden in der DBU
DESCRIPTION:An jedem letzten Montag eines Monats empfiehlt die AG Krieg und Frieden in der Deutschen Buddhistischen Union eine Friedens-Meditation durchzuführen\, alleine oder in einer Gruppe/Gemeinschaft. \nZusätzlich wird eine Online-Sitzung angeboten\, so dass man angeleitet an einer Friedens-Meditation teilnehmen kann.\nDiese Sitzungen werden von verschiedenen Meditationslehrer’innen angeleitet\, die freundlicherweise die Einladung der AG Krieg und Frieden angenommen haben \nDie Termine und Anleiter’innen sind: \n27. Oktober 2025 – Ani Karma Tsültrim\n24. November 2025 – Yesche U. Regel\n29. Dezember 2025 – Lama Tilmann Lhündrub \n26. Januar 2026 – Dr. Wilfried Reuter\n23. Februar 2026 – Irmi Jeuther\n30. März 2026 – Bernd Bender\n27. April 2026 – evtl. Kathleen Hohetsu Battke
URL:https://paramita-online.de/termin/friedens-meditation-online-anleiterin-noch-offen-eine-initiative-der-ag-frieden-in-der-dbu/
CATEGORIES:AG Frieden,Friedens-Meditationen online,Paramita Online
ATTACH;FMTTYPE=image/png:https://paramita-online.de/wp-content/uploads/Logo-AG-Frieden-neu-9-2025-e1773961035571.png
END:VEVENT
BEGIN:VEVENT
DTSTART;TZID=Europe/Berlin:20260127T073000
DTEND;TZID=Europe/Berlin:20260127T081500
DTSTAMP:20260422T170936
CREATED:20250312T144952Z
LAST-MODIFIED:20260319T163323Z
UID:10002336-1769499000-1769501700@paramita-online.de
SUMMARY:an Dienstag Morgen: Achtsamkeit und Herzens-Verbundenheit mit Tara - mit Marion Ramb-Uderstadt
DESCRIPTION:Zu einem festen Termin und in Gemeinschaft zu meditieren kann die eigene Praxis\nunterstützen\, wie es das PARAMITA ONLINE-Programm ja seit über 4 Jahren auch\nfortlaufend anbietet. \nIch selbst fühle die Verbindung und den Schutz der Tara und nehme meine Zuflucht\nzu ihr. Ich möchte diese Verbindung stärken und erforschen und dies mit\nInteressierten teilen. \nDie äußere Struktur wird wie bei vielen anderen Meditationen bei PARAMITA\nONLINE sein: \nIn der ersten Hälfte der 45-minütigen Meditation finden wir mit Achtsamkeit eine\nGrundruhe und bemerken\, was gerade in uns geschieht. \nIm zweiten Teil üben wir dann in Verbindung zu kommen mit unserer Buddha-Natur\nund begegnen Tara als Ausdruck dieser wahren Natur unseres Wesens. So können\nwir in Berührung kommen mit einer Kraftquelle\, die Tara für uns sein kann. \nDabei können wir das Mantra der Tara rezitieren\, singen oder es auch einfach hören\,\nindem wir einer eingespielten Tara-Mantra-Aufnahme lauschen und in Stille mit Tara\nals Visualisierung sitzen. \nDies ist ein Angebot\, um die Verbindung zu Tara zu verstärken und dabei\nmiteinander zu wachsen. \nAls Anleiterin dieser Morgen-Meditation bin ich keine Expertin in der Tara-Praxis\,\nmöchte jedoch gerne in Gemeinschaft die Verbindung zu Tara pflegen.\nIch freue mich über jede und jeden\, die/der Lust hat die Verbindung zu Tara\nregelmässig in einer Gemeinschaft zu kultivieren. \nMan kann sowohl an einzelnen Dienstag-Morgen-Meditationen teilnehmen als auch\nalle 4 Termine in Serie wahrnehmen. \nMarion R.-U. \nDie Termine sind jeweils an einem Dienstag Morgen von 7.30-8.15 Uhr.\nSiehe den Kalender. \n  \n 
URL:https://paramita-online.de/termin/an-dienstag-morgen-achtsamkeit-und-herzens-verbundenheit-mit-tara-mit-marion-ramb-uderstadt/2026-01-27/
CATEGORIES:Morgen-Meditation (online),Paramita Online,Tibetische Pujas (online)
ATTACH;FMTTYPE=image/png:https://paramita-online.de/wp-content/uploads/kalender-Gruene-Tara-200.png
END:VEVENT
BEGIN:VEVENT
DTSTART;TZID=Europe/Berlin:20260128T073000
DTEND;TZID=Europe/Berlin:20260128T081500
DTSTAMP:20260422T170936
CREATED:20251226T182528Z
LAST-MODIFIED:20251226T220437Z
UID:10002307-1769585400-1769588100@paramita-online.de
SUMMARY:Online-Morgen-Meditation - mit wechselnden Anleitungen im Monats-Rhythmus - mit Yesche
DESCRIPTION:Auch in der Wochenmitte werden am Morgen unterschiedliche Themen im Monats-Rhythmus des PARAMITA-ONLINE-Programms angeleitet. \nDieser Rhythmus geht so: \njeweils Montag und Mittwoch um 7.30 Uhr sowie am Donnerstag um 18.00 Uhr: \n1. Woche des Monats: Metta-Herzenswärme-Meditation – mit wechselnden Anleitungen\n2. Woche des Monats: Shamatha-/Schi-nä-Geistesruhe-Meditation – mit wechselnden Anleitungen\n3. Woche des Monats: Vipashyana-Einsichts-/Weisheits-Meditation – mit wechselnden Anleitungen\n4. Woche des Monats: Sati-Achtsamkeits-Meditation nach klassischen und zeitgenössischen Quellen \n… und wenn es eine 5. Woche des Monats gibt: Variationen der üblichen Anleitungen oder Spezial-Anleitungen
URL:https://paramita-online.de/termin/online-morgen-meditation-mit-wechselnden-anleitungen-im-monats-rhythmus-mit-yesche/2026-01-28/
CATEGORIES:Morgen-Meditation (online),Paramita Online
ATTACH;FMTTYPE=image/jpeg:https://paramita-online.de/wp-content/uploads/online-morgenmeditation2.jpg
END:VEVENT
BEGIN:VEVENT
DTSTART;TZID=Europe/Berlin:20260129T170000
DTEND;TZID=Europe/Berlin:20260129T174500
DTSTAMP:20260422T170936
CREATED:20251226T185231Z
LAST-MODIFIED:20251226T185231Z
UID:10002329-1769706000-1769708700@paramita-online.de
SUMMARY:Online: Grüne Tara - Tibetische Puja/Praxis-Sadhana (zumeist in Kurzform) - mit Yesche
DESCRIPTION:
URL:https://paramita-online.de/termin/online-gruene-tara-tibetische-puja-praxis-sadhana-zumeist-in-kurzform-mit-yesche/2026-01-29/
CATEGORIES:Paramita Online,Tibetische Pujas (online)
ATTACH;FMTTYPE=image/png:https://paramita-online.de/wp-content/uploads/kalender-kurze-gruene-tara-200.png
END:VEVENT
BEGIN:VEVENT
DTSTART;TZID=Europe/Berlin:20260129T180000
DTEND;TZID=Europe/Berlin:20260129T190000
DTSTAMP:20260422T170936
CREATED:20251226T183134Z
LAST-MODIFIED:20251226T183134Z
UID:10002315-1769709600-1769713200@paramita-online.de
SUMMARY:Online-Meditationsstunde mit wechselnden Themen im Monats-Rhythmus - mit Yesche
DESCRIPTION:Die Donnerstag-Abend-Meditationsstunde ist ein Relikt aus 21 Jahren PARAMITA BONN\, wo diese den Kern des buddhistischen Abend-Meditations-Programms ausgemacht hat. Seit Hernst 2020 gibt es sie auch online. \nDazu werden unterschiedliche Themen im Monats-Rhythmus des PARAMITA-ONLINE-Programms angeleitet. \nDieser Rhythmus geht so: \njeweils Montag und Mittwoch um 7.30 Uhr sowie am Donnerstag um 18.00 Uhr: \n1. Woche des Monats: Metta-Herzenswärme-Meditation – mit wechselnden Anleitungen\n2. Woche des Monats: Shamatha-/Schi-nä-Geistesruhe-Meditation – mit wechselnden Anleitungen\n3. Woche des Monats: Vipashyana-Einsichts-/Weisheits-Meditation – mit wechselnden Anleitungen\n4. Woche des Monats: Sati-Achtsamkeits-Meditation nach klassischen und zeitgenössischen Quellen \n… und wenn es eine 5. Woche des Monats gibt: Variationen der üblichen Anleitungen oder Spezial-Anleitungen
URL:https://paramita-online.de/termin/online-meditationsstunde-mit-wechselnden-themen-im-monats-rhythmus-mit-yesche/2026-01-29/
CATEGORIES:Donnerstag-Mediationsstunde (online),Paramita Online
ATTACH;FMTTYPE=image/png:https://paramita-online.de/wp-content/uploads/kalender-abendrot-200.png
END:VEVENT
BEGIN:VEVENT
DTSTART;TZID=Europe/Berlin:20260129T193000
DTEND;TZID=Europe/Berlin:20260129T210000
DTSTAMP:20260422T170936
CREATED:20251026T211010Z
LAST-MODIFIED:20251226T183545Z
UID:10002280-1769715000-1769720400@paramita-online.de
SUMMARY:nur online: Erinnerung an die Ngöndro-Übungen des Tibetischen Buddhismus - mit Yesche
DESCRIPTION:Nachdem einige Wochen zuvor an buddhistische Lehrende erinnert wurde\, folgt hier eine Reihe von Online-Themen-Abenden\, an denen es um die Meditationsformen gehen soll\, mit denen viele\, die in den letzten ca. 50 Jahren auch im „Westen“ die traditionelle Praxis in Schulen des Tibetsichen Buddhismus begonnen haben. \nYesche möchte dabei an die Ngöndro-Übungen erninnern\, die Vorbereitenden Übungen (auf die tiefere Meditation auf dem Sutra- oder Vajrayana-Pfad)\, das gewöhnliche Ngöndo und die 4 besonderen Ngöndro. \nDas gewöhnliche Ngöndro sind die „Vier Gedanken\, die den Geist auf den Dharna lenken“.\nDas sind meditative Refelxionen über …\n1. Die Kostbarkeit einer mit günstigen Umständen ausgestatteten menschlichen Existenz\n2. Vergänglichkeit und Tod\n3. Karma – Das Prinzip von Ursache und Wirkung\n4. Samsara – Der Kreislauf der zyklischen und dabei leidvollen Existenz \nSie wurden am Donnerstag\, den 18. Dezember 2025 besprochen. \nDie 4 besonderen Ngöndros sind:\n1. Zuflucht und Bodhichitta entwickeln (verbunden mit Verneigungen vor dem Zufluchtsbaum der Tradition\, siehe das Bild des Karma-Kagyü-Zufluchtsbaums)\nDies wird am Donnerstag\, den 8. Januar 2926 besprochen \n2. Vajrasatta-Reinigunspraxis mit dem 100-Silben-Mantra\nDies wird am Donnerstag\, den 15. Januar 2026 besprochen. \n3. Mandala-Opferung\nDies wird am Donnerstag\, den 29. Januar 2026 besprochen. \n4. Anrufung des Lama-Gurus und Verbindung mit ihm vertiefen (Lama’i Naldjor)\nDies wird am Donnerstag\, den 5. Februar 2026 besprochen. \nMit diesen Lehren und Praktiken hat auch Yesche 1977 seine buddhistische Praxis begonnen und vor allem bis in die 90er Jahre entsprechend geübt. \nEs wäre am besten die ganze Reihe von 5 Abenden zu besuchen.\nDennoch ist es möglich auch nur an einzelnen Abend-Sitzungen teilzunehmen.
URL:https://paramita-online.de/termin/nur-online-erinnerung-an-die-ngoendro-uebungen-des-tibetsichen-buddhismus-mit-yesche/2026-01-29/
CATEGORIES:Paramita Online,Themenabende
ATTACH;FMTTYPE=image/jpeg:https://paramita-online.de/wp-content/uploads/Zufluchtsbaum-Karma-Kagyue-e1761512986606.jpg
END:VEVENT
BEGIN:VEVENT
DTSTART;TZID=Europe/Berlin:20260131T073000
DTEND;TZID=Europe/Berlin:20260131T081500
DTSTAMP:20260422T170936
CREATED:20251226T181231Z
LAST-MODIFIED:20251226T181231Z
UID:10002292-1769844600-1769847300@paramita-online.de
SUMMARY:Mit Achtsamkeit\, Metta und Tonglen in das Wochenende - mit Yesche
DESCRIPTION:An den Samstag Morgen wird zumeist eine 5-Schritte-Meditation zur Tonglen-Praxis angeleitet\, wie Yesche sie in zwei Büchern beschrieben hat. \nDie 5 Schritte umfassen\n1. Eine geeignete Motivation für die Meditation entwickeln.\n2. Achtsamkeit für den Körper\, die Körperhaltung und die Atmung entwickeln und eine wache Präsenz des Geistes wecken.\n3. Eine Motivation des Wohlwollens und der Herzenswärme (Metta-Meditation) in sich wachrufen und eine innere Herzenskraftquelle für die Praxis finden.\n4. Die Tonglen-Herzatmung des Annehmens und Aussendens für ein Thema ausführen\, dem wir unsere Meditationssitzung widmen möchten. Dies kann etwas in uns selbst sein (Selbstmitgefühl) oder etwas\, das andere betrifft\, einzelne\, mehrere oder viele.\n5. Alle Vorstellungen auflösen und die Meditationssitzung mit einer Widmung abschließen. \nDie genauen Themen\, z.B. Selbst-Mitgefühl durch Tonglen oder zur Kultivierung von Altruismus in Bezug auf andere\, wechseln von Samstag zu Samstag. Der Anleiter nennt besondere Themen jeweils erst spontan an einem Samstag Morgen.
URL:https://paramita-online.de/termin/mit-achtsamkeit-metta-und-tonglen-in-das-wochenende-mit-yesche/2026-01-31/
CATEGORIES:Morgen-Meditation (online),Paramita Online,tonglen
ATTACH;FMTTYPE=image/jpeg:https://paramita-online.de/wp-content/uploads/jahresgruppe-tonglen.jpg
END:VEVENT
END:VCALENDAR