BEGIN:VCALENDAR
VERSION:2.0
PRODID:-//Yesche U. Regel - ECPv6.15.17.1//NONSGML v1.0//EN
CALSCALE:GREGORIAN
METHOD:PUBLISH
X-ORIGINAL-URL:https://paramita-online.de
X-WR-CALDESC:Veranstaltungen für Yesche U. Regel
REFRESH-INTERVAL;VALUE=DURATION:PT1H
X-Robots-Tag:noindex
X-PUBLISHED-TTL:PT1H
BEGIN:VTIMEZONE
TZID:Europe/Berlin
BEGIN:DAYLIGHT
TZOFFSETFROM:+0100
TZOFFSETTO:+0200
TZNAME:CEST
DTSTART:20250330T010000
END:DAYLIGHT
BEGIN:STANDARD
TZOFFSETFROM:+0200
TZOFFSETTO:+0100
TZNAME:CET
DTSTART:20251026T010000
END:STANDARD
BEGIN:DAYLIGHT
TZOFFSETFROM:+0100
TZOFFSETTO:+0200
TZNAME:CEST
DTSTART:20260329T010000
END:DAYLIGHT
BEGIN:STANDARD
TZOFFSETFROM:+0200
TZOFFSETTO:+0100
TZNAME:CET
DTSTART:20261025T010000
END:STANDARD
BEGIN:DAYLIGHT
TZOFFSETFROM:+0100
TZOFFSETTO:+0200
TZNAME:CEST
DTSTART:20270328T010000
END:DAYLIGHT
BEGIN:STANDARD
TZOFFSETFROM:+0200
TZOFFSETTO:+0100
TZNAME:CET
DTSTART:20271031T010000
END:STANDARD
END:VTIMEZONE
BEGIN:VEVENT
DTSTART;VALUE=DATE:20260904
DTEND;VALUE=DATE:20260907
DTSTAMP:20260423T183644
CREATED:20251012T140624Z
LAST-MODIFIED:20251012T140957Z
UID:10001936-1788480000-1788739199@paramita-online.de
SUMMARY:Langenfeld\, Eifel/Kamalashila: - Spiritual Care Modul 4 - Miriam Pokora und Yesche - Details später
DESCRIPTION:Dies ist das erste Modul in einer Reihe von vieren. \nhybrid: Spiritual Care – Buddhistisch inspirierte Sterbevorbereitung und -Begleitung Ein Studien- und Praxiskurs in vier Modulen \n \nAus buddhistischer Sicht kann das ganze Leben als Vorbereitung auf  den Tod und als emotionaler und spiritueller Reifeprozess verstanden  werden\, der die Unbeständigkeit aller Erfahrungen sowie die Einsicht   in die Nicht-Selbst-Natur und die Leerheit aller Dinge immer tiefer  durchdringt. Als meditative Übung wird den Teilnehmenden die Option einer “Herzenspraxis” vorgestellt\, d.h. eine Meditation\, auf die man  sich geistig stützen und zutiefst verlassen und die sehr hilfreich wer-den kann. Zudem wird die Bedeutung der „reine-Land-Vorstellungen” und der Phowa-Praxis erläutert. \nDie Teilnehmenden erhalten Einblicke in die Prozesse von Abschied und Trauer. \nEs werden Möglichkeiten angesprochen\, wie man Dingen\,  die dem Loslassen im Wege stehen\, begegnen kann. Es werden Gestal tungsmöglichkeiten für Trauerfeiern sowie spirituelle Begleitungs- und Abschieds-Rituale vorgestellt. \nDie Themen aktive und passive Sterbehilfe werden unter Einbezie hung einer buddhistischen Perspektive erläutert. Patientenverfügung\, Vorsorgevollmacht und Betreuungsverfügung werden unter Berück sichtigung einer spirituellen Perspektive einführend besprochen. \n\nMöglichkeiten\, ein Abschiedsritual und Trauerfeiern zu gestalten\nAktive und passive Sterbehilfe\, Gesetze und die buddhistische Sicht\nPatientenverfügung\, Betreuungsverfügung\, Vorsorgevollmacht unter Einbeziehung der spirituellen Perspektive\nDas buddhistische Konzept von „Leerheit”\nPhowa”-Praxis und „reine Land” Vorstellungen im Buddhismus\nEine Herzenspraxis finden und pflegen\nÜben / Wiederholen der in Modulen 1\, 2 und 3 erlernten  Meditationen\n\nLeider keine Möglichkeit vor Ort im Kamalashila dabei zu sein?\nDann melden Sie sich hier für den Livestream an. \nDie weiteren Termine sind aller Voraussicht nach:\nModul 2:     21.-23. November 2025 (mit Yesche und Miriam Pokora)\nModul 3:     17.-19. April 2026 (vor allem Miriam Pokora und mit Yesche)
URL:https://paramita-online.de/termin/kamalashila-institut-spiritual-care-modul-1-miriam-pokora-und-yesche-details-spaeter-3/
CATEGORIES:Kamalashila Institut/Eifel,Kurse & Retreats,Stadt und Land
ATTACH;FMTTYPE=image/png:https://paramita-online.de/wp-content/uploads/Toter-Koerper-mit-Namenslabel-e1741621459740.png
END:VEVENT
BEGIN:VEVENT
DTSTART;VALUE=DATE:20260911
DTEND;VALUE=DATE:20260914
DTSTAMP:20260423T183644
CREATED:20241027T113847Z
LAST-MODIFIED:20250414T154439Z
UID:10001810-1789084800-1789343999@paramita-online.de
SUMMARY:Dresden-Loschwitz Yogaschule - Die tiefgründigen Pfade des Friedens - Meditationswochenende - mit Yesche
DESCRIPTION:Frieden ist ein Bewusstseinszustand. Wenn wir uns eine Welt wünschen\, in der Kriege enden\, anstatt sich fortzusetzen oder  weiter zu eskalieren\, können wir – und müssen es vielleicht sogar – uns als Ressource auf die Weisheitslehren und Methoden besinnen\, die schon vor Jahrtausenden zur Überwindung von Kriegen\, Hass und Feindschaften entwickelt wurden.\n\nDer historische Buddha entdeckte einen tiefgründigen Pfad des Friedens aus einer erwachenden Einsicht in die Natur des Wesens alles Lebewesen heraus. Er zeigte daraufhin einen Weg geistigen und menschlichen Erwachens auf. Auch seine Zeit war nicht frei von Konflikten und dies machte die Einsicht in die Ursachen für Leiden und Konflikte umso dringlicher.\n\nViele spirituell suchende und praktizierende Menschen sind auf diesen Pfaden in den letzten 2.500 gegangen und haben – oft in einem Milieu\, das ihre Erfahrungen nicht unterstützte oder sogar behinderte – ebenfalls eine geistige und emotionale Befreiung erfahren.\n\nAuch wenn man nicht behaupten kann\, dass alle “Buddhisten” im Laufe der Geschichte der Kulturen\, in denen sie lebten\, immer ganz auf Gewaltanwendung verzichtet haben\, so ist es doch die Gewaltfreiheit und die Fähigkeit dazu\, diese zu entfalten\, die ein Sinn und Ziel der Lehren und Methoden des Buddhismus sind.\n\nIm Westen haben wir nun über viele Jahrzehnte “Dharma-Lehren” und Meditations-Methoden erlernen\, einüben und vermitteln dürfen. Oft sagten asiatische buddhistische Lehrerende\, die häufig aufgrund von Krieg und Tyrannei ihre Länder verlassen mussten\, dass sie uns diese Lehren auch deshalb übermitteln\, weil sie unter leidvollen Lebensbedingungen\, von denen es in Zukunft immer mehr geben würde\, eine große Hilfe sein werden.\n\nWie es scheint\, kommen nun solche “schwierigen Bedingungen” immer mehr auf uns zu. Zeit also\, sich auf das zu besinnen\, was wir lernen durften und es auf tiefgründige Weise anzuwenden und auch jenen zu zeigen\, die diese Pfade jetzt erst zu entdecken beginnen.\n\n\nAn diesem Wochenende werden wir stille und angeleitete Meditationen üben\, die uns den Geschmack der Friedens im eigenen Inneren vermitteln können.\n\nDiese sind Achtsamkeits-\, Geistesruhe- \, Herzensgüte- und Einsichts-Meditationen\,\nSatipatthana\, Shamatha\, Metta und Vipashyana.\n\nZwischen den Meditationssitzungen werden wir kleine Vorträge hören und zudem Texte und Zitate aus den Lehren des historischen Buddha Gautama Shakyamuni\, des Dalai Lama\, von Thich Nhat Hanh und anderer großer Meister des Buddha-Dharma lesen. Es wird mindestens “eine” achtsame Gesprächsrunde geben\, in der Teilnehmende ihre eigenen Gedanken und Gefühle zum Ausdruck bringen können.\n\n\nDie genauen Uhrzeiten können wir noch festlegen\, gerne jedoch mit Abendvortrag am Freitag\, z.B. 19.00-21.00 Uhr\,\nSamstag\, 10.00-18.00 Uhr mit Mittagspause und Sonntag 10.00-13.00 Uhr.
URL:https://paramita-online.de/termin/drsden-loschwitz-yogaschule-evtl-meditationswochenende-mit-yesche-details-spaeter/
CATEGORIES:Kurse & Retreats,Stadt und Land
ATTACH;FMTTYPE=image/png:https://paramita-online.de/wp-content/uploads/Dresden-Panorama-e1739222334867.png
END:VEVENT
END:VCALENDAR