BEGIN:VCALENDAR
VERSION:2.0
PRODID:-//Yesche U. Regel - ECPv6.15.17.1//NONSGML v1.0//EN
CALSCALE:GREGORIAN
METHOD:PUBLISH
X-WR-CALNAME:Yesche U. Regel
X-ORIGINAL-URL:https://paramita-online.de
X-WR-CALDESC:Veranstaltungen für Yesche U. Regel
REFRESH-INTERVAL;VALUE=DURATION:PT1H
X-Robots-Tag:noindex
X-PUBLISHED-TTL:PT1H
BEGIN:VTIMEZONE
TZID:Europe/Berlin
BEGIN:DAYLIGHT
TZOFFSETFROM:+0100
TZOFFSETTO:+0200
TZNAME:CEST
DTSTART:20250330T010000
END:DAYLIGHT
BEGIN:STANDARD
TZOFFSETFROM:+0200
TZOFFSETTO:+0100
TZNAME:CET
DTSTART:20251026T010000
END:STANDARD
BEGIN:DAYLIGHT
TZOFFSETFROM:+0100
TZOFFSETTO:+0200
TZNAME:CEST
DTSTART:20260329T010000
END:DAYLIGHT
BEGIN:STANDARD
TZOFFSETFROM:+0200
TZOFFSETTO:+0100
TZNAME:CET
DTSTART:20261025T010000
END:STANDARD
BEGIN:DAYLIGHT
TZOFFSETFROM:+0100
TZOFFSETTO:+0200
TZNAME:CEST
DTSTART:20270328T010000
END:DAYLIGHT
BEGIN:STANDARD
TZOFFSETFROM:+0200
TZOFFSETTO:+0100
TZNAME:CET
DTSTART:20271031T010000
END:STANDARD
END:VTIMEZONE
BEGIN:VEVENT
DTSTART;TZID=Europe/Berlin:20260603T163000
DTEND;TZID=Europe/Berlin:20260603T173900
DTSTAMP:20260422T142922
CREATED:20260111T202726Z
LAST-MODIFIED:20260111T202726Z
UID:10002358-1780504200-1780508340@paramita-online.de
SUMMARY:Bonn - Botanischer Garten - Geh-Meditation - mit Yesche
DESCRIPTION:Auch wenn es Paramita Bonn im Jahr 2026 nicht mehr in der Clemens-August-Straße in Poppelsdorf gibt\,\neine Geh-Meditation kann an diesen Nachmittagen wie früher im Botanischen Garten stattfinden. \nTreffpunkt 16.30 Uhr am Eingang Meckenheimer Allee vor den Seerosenteichen.
URL:https://paramita-online.de/termin/bonn-botanischer-garten-geh-meditation-mit-yesche-3/
CATEGORIES:Geh-Meditation Botanischer Garten Bonn,Kurse und Übungstage,PARAMITA Bonn
ATTACH;FMTTYPE=image/jpeg:https://paramita-online.de/wp-content/uploads/2020-05-24-Gehmeditation-Botanischer-Garten2-e1741898815987.jpg
END:VEVENT
END:VCALENDAR