BEGIN:VCALENDAR
VERSION:2.0
PRODID:-//Yesche U. Regel - ECPv6.15.17.1//NONSGML v1.0//EN
CALSCALE:GREGORIAN
METHOD:PUBLISH
X-WR-CALNAME:Yesche U. Regel
X-ORIGINAL-URL:https://paramita-online.de
X-WR-CALDESC:Veranstaltungen für Yesche U. Regel
REFRESH-INTERVAL;VALUE=DURATION:PT1H
X-Robots-Tag:noindex
X-PUBLISHED-TTL:PT1H
BEGIN:VTIMEZONE
TZID:Europe/Berlin
BEGIN:DAYLIGHT
TZOFFSETFROM:+0100
TZOFFSETTO:+0200
TZNAME:CEST
DTSTART:20250330T010000
END:DAYLIGHT
BEGIN:STANDARD
TZOFFSETFROM:+0200
TZOFFSETTO:+0100
TZNAME:CET
DTSTART:20251026T010000
END:STANDARD
BEGIN:DAYLIGHT
TZOFFSETFROM:+0100
TZOFFSETTO:+0200
TZNAME:CEST
DTSTART:20260329T010000
END:DAYLIGHT
BEGIN:STANDARD
TZOFFSETFROM:+0200
TZOFFSETTO:+0100
TZNAME:CET
DTSTART:20261025T010000
END:STANDARD
BEGIN:DAYLIGHT
TZOFFSETFROM:+0100
TZOFFSETTO:+0200
TZNAME:CEST
DTSTART:20270328T010000
END:DAYLIGHT
BEGIN:STANDARD
TZOFFSETFROM:+0200
TZOFFSETTO:+0100
TZNAME:CET
DTSTART:20271031T010000
END:STANDARD
END:VTIMEZONE
BEGIN:VEVENT
DTSTART;VALUE=DATE:20260612
DTEND;VALUE=DATE:20260615
DTSTAMP:20260424T050726
CREATED:20250401T092423Z
LAST-MODIFIED:20260324T173354Z
UID:10001972-1781222400-1781481599@paramita-online.de
SUMMARY:Frankfurt/Oder - Klarblick Rosengarten - Meditationswochenende: Mensch bleiben in der Krise - mit Yesche
DESCRIPTION:Dies ist die Ausschreibung für das Wochenenende.\nDer Kurs beginnt mit einem öffentlichen Vortrag am Freitag Abend\, an dem man auch teilnehmen kann\, ohne den Kurs am Samstag und Sonntag zu besuchen. \nBitte anklicken: Yesche Frankfurt-Oder Klarblick2026 \nInformation und Anmeldung\nDatum: 12.-14. Juni 2026\nOrt: Haus Klarblick – Frankfurt-Rosengarten\, Kirchsteig 3\, 14234 Frankfurt (Oder)\nE-Mail an: info[at]klarblick-rosengarten.de \nTeilnahme-Konditionen:\n(Bitte mit dem Text in der Ausschreibungs-PDF vergleichen.) \n95\,- € einschließlich der vegetarischen Verpflegung\nbitte überweisen an Ulrike Kaschel\, IBAN: DE19 1705 5050 4135 2514 77\, BIC: WELADED1LOS\nVerwendungszweck: 12.-14. Juni 2026\nDie Anmeldung ist mit der Überweisung der Kursgebühr fixiert. \nLehrender-Honorar: Spende am Kursende für Yesche U. Regels Lebensunterhalt und in Dankbarkeit für seine Lehraktivität. Jeder kann soviel geben\, wie es ihm richtig erscheint. \nKurszeiten:\nFreitag\, 12.6.2026\, 18.00-21.00 Uhr\nSamstag\, 13.6.2026\, 9.30-13.00 und 15.00-19.00 Uhr\nSonntag\, 14.6.2026\, 9.30-14.00 Uhr \nBei Bedarf helfen wir\, eine preiswerte Übernachtung zu finden.\nDirekt in Rosengarten kann man sich im Landgasthof einmieten:\nrosengarten-ffo@gmx.de oder Telefon 0335 27547348
URL:https://paramita-online.de/termin/frankfurt-oder-evtl-wochenendkurs-detals-spaeter-mit-yesche-2-2/
CATEGORIES:Kurse & Retreats,Stadt und Land,Vorträge und Lesungen
ATTACH;FMTTYPE=image/jpeg:https://paramita-online.de/wp-content/uploads/Haus-Klarblick-Raum-e1743496819660.jpg
END:VEVENT
END:VCALENDAR